BEGIN:VCALENDAR
VERSION:2.0
PRODID:-//Holy Trinity Chicago//POC Calendar//EN
CALSCALE:GREGORIAN
BEGIN:VEVENT
UID:sunday-divine-liturgy@holy-trinity-website-634.pages.dev
DTSTAMP:20260424T203811Z
DTSTART:20260426T140000Z
DTEND:20260426T163000Z
SUMMARY:Sunday Divine Liturgy
DESCRIPTION:Weekly Orthros and Divine Liturgy at the Schiller Park church.
LOCATION:10050 Ivanhoe Ave\, Schiller Park\, IL 60176
RRULE:FREQ=WEEKLY
END:VEVENT
BEGIN:VEVENT
UID:saturday-cemetery-chapel-liturgy@holy-trinity-website-634.pages.dev
DTSTAMP:20260424T203811Z
DTSTART:20260425T140000Z
DTEND:20260425T163000Z
SUMMARY:Saturday Liturgy at Transfiguration Chapel
DESCRIPTION:Weekly Orthros and Divine Liturgy at the River Grove cemetery chapel.
LOCATION:2905 North Thatcher Road\, River Grove\, IL 60171
RRULE:FREQ=WEEKLY
END:VEVENT
BEGIN:VEVENT
UID:greek-fest-2026@holy-trinity-website-634.pages.dev
DTSTAMP:20260424T203811Z
DTSTART:20260605T220000Z
DTEND:20260608T020000Z
SUMMARY:Schiller Park Greek Fest
DESCRIPTION:Festival detail remains owned by parish staff and the external festival site.
LOCATION:10050 Ivanhoe Ave\, Schiller Park\, IL 60176
RRULE:FREQ=YEARLY
END:VEVENT
END:VCALENDAR